BEGIN:VCALENDAR
VERSION:2.0
PRODID:-//Charles River Rugby - ECPv5.12.2//NONSGML v1.0//EN
CALSCALE:GREGORIAN
METHOD:PUBLISH
X-WR-CALNAME:Charles River Rugby
X-ORIGINAL-URL:https://www.charlesriverrugby.com
X-WR-CALDESC:Events for Charles River Rugby
BEGIN:VTIMEZONE
TZID:America/New_York
BEGIN:DAYLIGHT
TZOFFSETFROM:-0500
TZOFFSETTO:-0400
TZNAME:EDT
DTSTART:20180311T070000
END:DAYLIGHT
BEGIN:STANDARD
TZOFFSETFROM:-0400
TZOFFSETTO:-0500
TZNAME:EST
DTSTART:20181104T060000
END:STANDARD
END:VTIMEZONE
BEGIN:VEVENT
DTSTART;TZID=America/New_York:20180320T200000
DTEND;TZID=America/New_York:20180320T220000
DTSTAMP:20260422T033737
CREATED:20180302T193505Z
LAST-MODIFIED:20180319T154622Z
UID:5853-1521576000-1521583200@www.charlesriverrugby.com
SUMMARY:SPRING PRACTICE 2018
DESCRIPTION:Join us for practice! \nNOTE: Tuesday 3/20 the Women’s team will be having a chalk talk at the Green Briar Bar (304 Washington St\, Brighton) starting at 7:30pm. Please dm us via Facebook for more information. \nWHERE: English High School Fields \nWHEN: Every Tuesday and Thursday\, 8-10pm \nClosest T stop is Green Street on the Orange Line. \nThere will be a couple teams practicing on the fields\, look for the ruggers in green and orange to find us!
URL:https://www.charlesriverrugby.com/event/spring-practice-2018/
LOCATION:English High Field\, 144 McBride St. \, Jamaica PLain\, MA\, 02131\, United States
CATEGORIES:Men's Practice,Men's Schedule,Women's Practice,Women's Schedule
END:VEVENT
END:VCALENDAR