BEGIN:VCALENDAR
VERSION:2.0
PRODID:-//Charles River Rugby - ECPv5.12.2//NONSGML v1.0//EN
CALSCALE:GREGORIAN
METHOD:PUBLISH
X-WR-CALNAME:Charles River Rugby
X-ORIGINAL-URL:https://www.charlesriverrugby.com
X-WR-CALDESC:Events for Charles River Rugby
BEGIN:VTIMEZONE
TZID:America/New_York
BEGIN:DAYLIGHT
TZOFFSETFROM:-0500
TZOFFSETTO:-0400
TZNAME:EDT
DTSTART:20180311T070000
END:DAYLIGHT
BEGIN:STANDARD
TZOFFSETFROM:-0400
TZOFFSETTO:-0500
TZNAME:EST
DTSTART:20181104T060000
END:STANDARD
END:VTIMEZONE
BEGIN:VEVENT
DTSTART;VALUE=DATE:20180505
DTEND;VALUE=DATE:20180508
DTSTAMP:20260421T221151
CREATED:20180316T202857Z
LAST-MODIFIED:20180502T181515Z
UID:5957-1525485600-1525658399@www.charlesriverrugby.com
SUMMARY:Charles River @ NERFU Tournament
DESCRIPTION:Saturday Schedules:\nCharles River Women vs. Beantown @ 9:00am \nCharles River Women vs. North Shore @ 12:00pm \nCharles River Men vs. Amoskeag @ 12:00pm \nCharles River Men vs. TBA @ 4:15 pm \n  \nFull Tournament schedules:\n2018_NERFU_Saturday \n2018_NERFU_Sunday \nPlease check the NERFU website or the NERFU Facebook event for up to date tournament details and location information.
URL:https://www.charlesriverrugby.com/event/nerfu-tournament/
LOCATION:Fort Adams State Park\, 84 Fort Adams Drive\, Newport\, RI\, 02840\, United States
CATEGORIES:Men's Matches,Men's Schedule,Women's Matches,Women's Schedule
END:VEVENT
END:VCALENDAR