BEGIN:VCALENDAR
VERSION:2.0
PRODID:-//Charles River Rugby - ECPv5.12.2//NONSGML v1.0//EN
CALSCALE:GREGORIAN
METHOD:PUBLISH
X-WR-CALNAME:Charles River Rugby
X-ORIGINAL-URL:https://www.charlesriverrugby.com
X-WR-CALDESC:Events for Charles River Rugby
BEGIN:VTIMEZONE
TZID:America/New_York
BEGIN:DAYLIGHT
TZOFFSETFROM:-0500
TZOFFSETTO:-0400
TZNAME:EDT
DTSTART:20180311T070000
END:DAYLIGHT
BEGIN:STANDARD
TZOFFSETFROM:-0400
TZOFFSETTO:-0500
TZNAME:EST
DTSTART:20181104T060000
END:STANDARD
END:VTIMEZONE
BEGIN:VEVENT
DTSTART;TZID=America/New_York:20180421T130000
DTEND;TZID=America/New_York:20180421T150000
DTSTAMP:20260421T220905
CREATED:20180309T211719Z
LAST-MODIFIED:20180309T212503Z
UID:5931-1524315600-1524322800@www.charlesriverrugby.com
SUMMARY:Charles River Men's RFC @ Providence (Playoff Match)
DESCRIPTION:Match details are TBA. Please check our Facebook page for up to date information.
URL:https://www.charlesriverrugby.com/event/charles-river-mens-rfc-providence-playoff-match/
LOCATION:Providence RFC\, 401 Elmgrove Avenue\, Providence\, RI\, 02906\, United States
CATEGORIES:Men's Matches,Men's Schedule
END:VEVENT
END:VCALENDAR